<VRTDataset rasterXSize="2377" rasterYSize="2260">
  <SRS dataAxisToSRSAxisMapping="2,1">PROJCS["Korea 2000 / Unified CS",GEOGCS["Korea 2000",DATUM["Geocentric_datum_of_Korea",SPHEROID["GRS 1980",6378137,298.257222101,AUTHORITY["EPSG","7019"]],AUTHORITY["EPSG","6737"]],PRIMEM["Greenwich",0,AUTHORITY["EPSG","8901"]],UNIT["degree",0.0174532925199433,AUTHORITY["EPSG","9122"]],AUTHORITY["EPSG","4737"]],PROJECTION["Transverse_Mercator"],PARAMETER["latitude_of_origin",38],PARAMETER["central_meridian",127.5],PARAMETER["scale_factor",0.9996],PARAMETER["false_easting",1000000],PARAMETER["false_northing",2000000],UNIT["metre",1,AUTHORITY["EPSG","9001"]],AXIS["Northing",NORTH],AXIS["Easting",EAST],AUTHORITY["EPSG","5179"]]</SRS>
  <GeoTransform>  7.4610000000000000e+05,  2.7000000000000000e+02,  0.0000000000000000e+00,  2.0688000000000000e+06,  0.0000000000000000e+00, -2.7000000000000000e+02</GeoTransform>
  <VRTRasterBand dataType="Float32" band="1">
    <SimpleSource>
      <SourceFilename relativeToVRT="1">/mnt/disk1/agecoclim/estimation/index/ID/ID.2021.tiff</SourceFilename>
      <SourceBand>1</SourceBand>
      <SourceProperties RasterXSize="2377" RasterYSize="2260" DataType="Float32" BlockXSize="256" BlockYSize="256" />
      <SrcRect xOff="0" yOff="0" xSize="2377" ySize="2260" />
      <DstRect xOff="0" yOff="0" xSize="2377" ySize="2260" />
    </SimpleSource>
  </VRTRasterBand>
  <MaskBand>
    <VRTRasterBand dataType="Float32">
      <SimpleSource>
        <SourceFilename relativeToVRT="1">/data1/agecoclim-v2301/data/input/fixture/mask_field/mask_field.tiff</SourceFilename>
        <SourceBand>1</SourceBand>
        <SourceProperties RasterXSize="2377" RasterYSize="2260" DataType="Float32" BlockXSize="256" BlockYSize="256" />
        <SrcRect xOff="0" yOff="0" xSize="2377" ySize="2260" />
        <DstRect xOff="0" yOff="0" xSize="2377" ySize="2260" />
      </SimpleSource>
    </VRTRasterBand>
  </MaskBand>
</VRTDataset>
